BEGIN:VCALENDAR
VERSION:2.0
PRODID:-// - ECPv6.15.14//NONSGML v1.0//EN
CALSCALE:GREGORIAN
METHOD:PUBLISH
X-ORIGINAL-URL:https://sidmouthsurflifesaving.co.uk
X-WR-CALDESC:Events for 
REFRESH-INTERVAL;VALUE=DURATION:PT1H
X-Robots-Tag:noindex
X-PUBLISHED-TTL:PT1H
BEGIN:VTIMEZONE
TZID:Europe/London
BEGIN:DAYLIGHT
TZOFFSETFROM:+0000
TZOFFSETTO:+0100
TZNAME:BST
DTSTART:20250330T010000
END:DAYLIGHT
BEGIN:STANDARD
TZOFFSETFROM:+0100
TZOFFSETTO:+0000
TZNAME:GMT
DTSTART:20251026T010000
END:STANDARD
BEGIN:DAYLIGHT
TZOFFSETFROM:+0000
TZOFFSETTO:+0100
TZNAME:BST
DTSTART:20260329T010000
END:DAYLIGHT
BEGIN:STANDARD
TZOFFSETFROM:+0100
TZOFFSETTO:+0000
TZNAME:GMT
DTSTART:20261025T010000
END:STANDARD
BEGIN:DAYLIGHT
TZOFFSETFROM:+0000
TZOFFSETTO:+0100
TZNAME:BST
DTSTART:20270328T010000
END:DAYLIGHT
BEGIN:STANDARD
TZOFFSETFROM:+0100
TZOFFSETTO:+0000
TZNAME:GMT
DTSTART:20271031T010000
END:STANDARD
END:VTIMEZONE
BEGIN:VEVENT
DTSTART;VALUE=DATE:20260620
DTEND;VALUE=DATE:20260621
DTSTAMP:20260425T123903
CREATED:20260225T130932Z
LAST-MODIFIED:20260225T132643Z
UID:2092-1781913600-1781999999@sidmouthsurflifesaving.co.uk
SUMMARY:Devon Nipper Competition 2026
DESCRIPTION:
URL:https://sidmouthsurflifesaving.co.uk/event/devon-nipper-competition-2026/
LOCATION:Exmouth Beach
CATEGORIES:Competition
ATTACH;FMTTYPE=image/jpeg:https://sidmouthsurflifesaving.co.uk/wp-content/uploads/2026/01/65877106_10156962994781858_6682250173705355264_n.jpg
END:VEVENT
BEGIN:VEVENT
DTSTART;VALUE=DATE:20260704
DTEND;VALUE=DATE:20260705
DTSTAMP:20260425T123903
CREATED:20260225T131121Z
LAST-MODIFIED:20260225T132557Z
UID:2095-1783123200-1783209599@sidmouthsurflifesaving.co.uk
SUMMARY:Devon Youth Competition 2026
DESCRIPTION:
URL:https://sidmouthsurflifesaving.co.uk/event/devon-youth-competition-2026/
LOCATION:North Devon (Woolacombe / Croyde / Saunton)
ATTACH;FMTTYPE=image/jpeg:https://sidmouthsurflifesaving.co.uk/wp-content/uploads/2026/01/9-1-scaled.jpg
END:VEVENT
BEGIN:VEVENT
DTSTART;VALUE=DATE:20260705
DTEND;VALUE=DATE:20260706
DTSTAMP:20260425T123903
CREATED:20260225T131222Z
LAST-MODIFIED:20260225T132532Z
UID:2098-1783209600-1783295999@sidmouthsurflifesaving.co.uk
SUMMARY:Devon Masters Competition 2026
DESCRIPTION:
URL:https://sidmouthsurflifesaving.co.uk/event/devon-masters-competition-2026/
LOCATION:North Devon (Woolacombe / Croyde / Saunton)
ATTACH;FMTTYPE=image/png:https://sidmouthsurflifesaving.co.uk/wp-content/uploads/2026/01/Frame-427320180.png
END:VEVENT
BEGIN:VEVENT
DTSTART;VALUE=DATE:20260815
DTEND;VALUE=DATE:20260817
DTSTAMP:20260425T123903
CREATED:20260225T131732Z
LAST-MODIFIED:20260225T132508Z
UID:2100-1786752000-1786924799@sidmouthsurflifesaving.co.uk
SUMMARY:Masters Nationals Competition 2026
DESCRIPTION:
URL:https://sidmouthsurflifesaving.co.uk/event/masters-nationals-competition-2026/
LOCATION:HOLYWELL BAY
ATTACH;FMTTYPE=image/png:https://sidmouthsurflifesaving.co.uk/wp-content/uploads/2026/01/Frame-427320180.png
END:VEVENT
BEGIN:VEVENT
DTSTART;VALUE=DATE:20260817
DTEND;VALUE=DATE:20260820
DTSTAMP:20260425T123903
CREATED:20260225T131828Z
LAST-MODIFIED:20260225T132438Z
UID:2103-1786924800-1787183999@sidmouthsurflifesaving.co.uk
SUMMARY:Youth Nationals Competition 2026
DESCRIPTION:
URL:https://sidmouthsurflifesaving.co.uk/event/youth-nationals-competition-2026/
LOCATION:HOLYWELL BAY
ATTACH;FMTTYPE=image/jpeg:https://sidmouthsurflifesaving.co.uk/wp-content/uploads/2026/01/IMG_0302-1-scaled.jpg
END:VEVENT
BEGIN:VEVENT
DTSTART;VALUE=DATE:20260820
DTEND;VALUE=DATE:20260823
DTSTAMP:20260425T123903
CREATED:20260225T131931Z
LAST-MODIFIED:20260225T132340Z
UID:2105-1787184000-1787443199@sidmouthsurflifesaving.co.uk
SUMMARY:Nippers Nationals Competition 2026
DESCRIPTION:
URL:https://sidmouthsurflifesaving.co.uk/event/nippers-nationals-competition-2026/
LOCATION:HOLYWELL BAY
ATTACH;FMTTYPE=image/jpeg:https://sidmouthsurflifesaving.co.uk/wp-content/uploads/2026/02/487a0235.jpg
END:VEVENT
END:VCALENDAR