BEGIN:VCALENDAR
VERSION:2.0
PRODID:-// - ECPv6.15.14//NONSGML v1.0//EN
CALSCALE:GREGORIAN
METHOD:PUBLISH
X-ORIGINAL-URL:https://sidmouthsurflifesaving.co.uk
X-WR-CALDESC:Events for 
REFRESH-INTERVAL;VALUE=DURATION:PT1H
X-Robots-Tag:noindex
X-PUBLISHED-TTL:PT1H
BEGIN:VTIMEZONE
TZID:Europe/London
BEGIN:DAYLIGHT
TZOFFSETFROM:+0000
TZOFFSETTO:+0100
TZNAME:BST
DTSTART:20250330T010000
END:DAYLIGHT
BEGIN:STANDARD
TZOFFSETFROM:+0100
TZOFFSETTO:+0000
TZNAME:GMT
DTSTART:20251026T010000
END:STANDARD
BEGIN:DAYLIGHT
TZOFFSETFROM:+0000
TZOFFSETTO:+0100
TZNAME:BST
DTSTART:20260329T010000
END:DAYLIGHT
BEGIN:STANDARD
TZOFFSETFROM:+0100
TZOFFSETTO:+0000
TZNAME:GMT
DTSTART:20261025T010000
END:STANDARD
BEGIN:DAYLIGHT
TZOFFSETFROM:+0000
TZOFFSETTO:+0100
TZNAME:BST
DTSTART:20270328T010000
END:DAYLIGHT
BEGIN:STANDARD
TZOFFSETFROM:+0100
TZOFFSETTO:+0000
TZNAME:GMT
DTSTART:20271031T010000
END:STANDARD
END:VTIMEZONE
BEGIN:VEVENT
DTSTART;TZID=Europe/London:20260328T113000
DTEND;TZID=Europe/London:20260328T123000
DTSTAMP:20260425T121848
CREATED:20260125T103530Z
LAST-MODIFIED:20260206T224637Z
UID:1249-1774697400-1774701000@sidmouthsurflifesaving.co.uk
SUMMARY:28th March｜Swim Trials 2026 New Member Sign-Up
DESCRIPTION:The 2026 Training Season is Almost Here! We are now opening new member sign-ups and invite you to join our swim trials. \n\n\n\n9 years old or younger \n\nYour child must be able to swim 100 metres in 2 minutes 30 seconds.\nThey must be 9 years old or younger on 31.12.26\nApplicants aged 7 or 8 may try out if they meet the swimming requirements and are confident in the sea.\n\n\n\n\n\n10-12 years old nipper group \n\n\n10-12 years old nipper group for 2026. Nippers must be 12 or under on 31.12.26.\nYour child must be able to 200m continuous front crawl swim assessment with the aim of completing in under 5 minutes.\n\n\n\n  \n\n\nIf your child passes the assessment\, they will be eligible to become a member. \n\n\nMembership Costs:SLSGB: £36 SSLS: £65 \nRegister Now
URL:https://sidmouthsurflifesaving.co.uk/event/28th-march%ef%bd%9cswim-trials-2026-new-member-sign-up/
LOCATION:Sidmouth LED Swimming Pool\, Ham Lane\, Sidmouth EX10 8XR\, Devon\, EX10 8XR\, United Kingdom
CATEGORIES:swim trials
ATTACH;FMTTYPE=image/png:https://sidmouthsurflifesaving.co.uk/wp-content/uploads/2021/11/Frame-427320139.png
ORGANIZER;CN="Sidmouth Surf Life saving Club":MAILTO:membership@sidmouthsurflifesaving.co.uk
END:VEVENT
BEGIN:VEVENT
DTSTART;TZID=Europe/London:20260322T113000
DTEND;TZID=Europe/London:20260322T123000
DTSTAMP:20260425T121848
CREATED:20260125T102946Z
LAST-MODIFIED:20260206T224728Z
UID:1242-1774179000-1774182600@sidmouthsurflifesaving.co.uk
SUMMARY:22nd March｜Swim Trials 2026 New Member Sign-Up
DESCRIPTION:The 2026 Training Season is Almost Here! We are now opening new member sign-ups and invite you to join our swim trials. \n\n\n\n9 years old or younger \n\nYour child must be able to swim 100 metres in 2 minutes 30 seconds.\nThey must be 9 years old or younger on 31.12.26\nApplicants aged 7 or 8 may try out if they meet the swimming requirements and are confident in the sea.\n\n\n\n\n\n10-12 years old nipper group \n\n\n10-12 years old nipper group for 2026. Nippers must be 12 or under on 31.12.26.\nYour child must be able to 200m continuous front crawl swim assessment with the aim of completing in under 5 minutes.\n\n\n\n  \n\n\nIf your child passes the assessment\, they will be eligible to become a member. \n\n\nMembership Costs:SLSGB: £36 SSLS: £65 \n\n\n\n\n    Register Now
URL:https://sidmouthsurflifesaving.co.uk/event/swim-trials-2026-new-member-sign-up/
LOCATION:Sidmouth LED Swimming Pool\, Ham Lane\, Sidmouth EX10 8XR\, Devon\, EX10 8XR\, United Kingdom
CATEGORIES:swim trials
ATTACH;FMTTYPE=image/png:https://sidmouthsurflifesaving.co.uk/wp-content/uploads/2021/11/Frame-427320141.png
ORGANIZER;CN="Sidmouth Surf Life saving Club":MAILTO:membership@sidmouthsurflifesaving.co.uk
END:VEVENT
END:VCALENDAR