BEGIN:VCALENDAR
VERSION:2.0
PRODID:-// - ECPv6.15.14//NONSGML v1.0//EN
CALSCALE:GREGORIAN
METHOD:PUBLISH
X-ORIGINAL-URL:https://sidmouthsurflifesaving.co.uk
X-WR-CALDESC:Events for 
REFRESH-INTERVAL;VALUE=DURATION:PT1H
X-Robots-Tag:noindex
X-PUBLISHED-TTL:PT1H
BEGIN:VTIMEZONE
TZID:Europe/London
BEGIN:DAYLIGHT
TZOFFSETFROM:+0000
TZOFFSETTO:+0100
TZNAME:BST
DTSTART:20250330T010000
END:DAYLIGHT
BEGIN:STANDARD
TZOFFSETFROM:+0100
TZOFFSETTO:+0000
TZNAME:GMT
DTSTART:20251026T010000
END:STANDARD
BEGIN:DAYLIGHT
TZOFFSETFROM:+0000
TZOFFSETTO:+0100
TZNAME:BST
DTSTART:20260329T010000
END:DAYLIGHT
BEGIN:STANDARD
TZOFFSETFROM:+0100
TZOFFSETTO:+0000
TZNAME:GMT
DTSTART:20261025T010000
END:STANDARD
BEGIN:DAYLIGHT
TZOFFSETFROM:+0000
TZOFFSETTO:+0100
TZNAME:BST
DTSTART:20270328T010000
END:DAYLIGHT
BEGIN:STANDARD
TZOFFSETFROM:+0100
TZOFFSETTO:+0000
TZNAME:GMT
DTSTART:20271031T010000
END:STANDARD
END:VTIMEZONE
BEGIN:VEVENT
DTSTART;TZID=Europe/London:20260429T180000
DTEND;TZID=Europe/London:20260429T200000
DTSTAMP:20260420T064141
CREATED:20260320T133424Z
LAST-MODIFIED:20260320T133430Z
UID:2139-1777485600-1777492800@sidmouthsurflifesaving.co.uk
SUMMARY:2026 Competition Squad Training commences Wednesday 29th April
DESCRIPTION:The new season of Wednesday competition training is starting again. Training will take place every Wednesday from 6:00 PM. Please arrive at least 10 minutes early to check in and ensure you are fully prepared in your training gear before the session begins. \nNew members are welcome to join.
URL:https://sidmouthsurflifesaving.co.uk/event/2026-competition-squad-training-commences-wednesday-29th-april/
ATTACH;FMTTYPE=image/png:https://sidmouthsurflifesaving.co.uk/wp-content/uploads/2026/03/Frame-427320190.png
END:VEVENT
END:VCALENDAR