BEGIN:VCALENDAR
VERSION:2.0
PRODID:-// - ECPv6.15.14//NONSGML v1.0//EN
CALSCALE:GREGORIAN
METHOD:PUBLISH
X-ORIGINAL-URL:https://sidmouthsurflifesaving.co.uk
X-WR-CALDESC:Events for 
REFRESH-INTERVAL;VALUE=DURATION:PT1H
X-Robots-Tag:noindex
X-PUBLISHED-TTL:PT1H
BEGIN:VTIMEZONE
TZID:Europe/London
BEGIN:DAYLIGHT
TZOFFSETFROM:+0000
TZOFFSETTO:+0100
TZNAME:BST
DTSTART:20250330T010000
END:DAYLIGHT
BEGIN:STANDARD
TZOFFSETFROM:+0100
TZOFFSETTO:+0000
TZNAME:GMT
DTSTART:20251026T010000
END:STANDARD
BEGIN:DAYLIGHT
TZOFFSETFROM:+0000
TZOFFSETTO:+0100
TZNAME:BST
DTSTART:20260329T010000
END:DAYLIGHT
BEGIN:STANDARD
TZOFFSETFROM:+0100
TZOFFSETTO:+0000
TZNAME:GMT
DTSTART:20261025T010000
END:STANDARD
BEGIN:DAYLIGHT
TZOFFSETFROM:+0000
TZOFFSETTO:+0100
TZNAME:BST
DTSTART:20270328T010000
END:DAYLIGHT
BEGIN:STANDARD
TZOFFSETFROM:+0100
TZOFFSETTO:+0000
TZNAME:GMT
DTSTART:20271031T010000
END:STANDARD
END:VTIMEZONE
BEGIN:VEVENT
DTSTART;TZID=Europe/London:20260424T183000
DTEND;TZID=Europe/London:20260424T193000
DTSTAMP:20260424T203438
CREATED:20260320T132732Z
LAST-MODIFIED:20260320T132744Z
UID:2135-1777055400-1777059000@sidmouthsurflifesaving.co.uk
SUMMARY:2026 SSLSC Briefing & AGM
DESCRIPTION:Friday 24th April @ The Hub. 6.30 start\nBar open from 6pm and will remain open after meeting for a social and a catch up \nAlso a chance to bring along any items to sell ie outgrown wetsuits\, club kit\, booties\, gloves\, swimwear\, boards etc. \nHope to see as many of you there as possible\, all members welcome.
URL:https://sidmouthsurflifesaving.co.uk/event/2026-sslsc-briefing-agm/
LOCATION:Sidmouth Independent Lifeboat Station 2F\, The Esplanade\, Sidmouth\, EX10 8BE\, United Kingdom
ATTACH;FMTTYPE=image/png:https://sidmouthsurflifesaving.co.uk/wp-content/uploads/2026/03/Frame-427320190.png
END:VEVENT
END:VCALENDAR